BEGIN:VCALENDAR
VERSION:2.0
PRODID:-//wp-events-plugin.com//7.2.3.1//EN
TZID:America/New_York
X-WR-TIMEZONE:America/New_York
BEGIN:VEVENT
UID:14@omsc.ptsem.edu
DTSTART;TZID=America/New_York:20260507T093000
DTEND;TZID=America/New_York:20260508T113000
DTSTAMP:20251209T200653Z
URL:https://omsc.ptsem.edu/events/interreligious-relations-dr-kerry-san-ch
 irico/
SUMMARY:Interreligious Relations – Dr. Kerry San Chirico
DESCRIPTION:
LOCATION:OMSC House\, 58 Mercer St\, Princeton\, NJ\, 08540\, United States
X-APPLE-STRUCTURED-LOCATION;VALUE=URI;X-ADDRESS=58 Mercer St\, Princeton\, 
 NJ\, 08540\, United States;X-APPLE-RADIUS=100;X-TITLE=OMSC House:geo:0,0
END:VEVENT
BEGIN:VTIMEZONE
TZID:America/New_York
X-LIC-LOCATION:America/New_York
BEGIN:DAYLIGHT
DTSTART:20260308T030000
TZOFFSETFROM:-0500
TZOFFSETTO:-0400
TZNAME:EDT
END:DAYLIGHT
END:VTIMEZONE
END:VCALENDAR